BEGIN:VCALENDAR
VERSION:2.0
PRODID:-//humane - ECPv6.3.1//NONSGML v1.0//EN
CALSCALE:GREGORIAN
METHOD:PUBLISH
X-ORIGINAL-URL:https://humane.asia
X-WR-CALDESC:Events for humane
REFRESH-INTERVAL;VALUE=DURATION:PT1H
X-Robots-Tag:noindex
X-PUBLISHED-TTL:PT1H
BEGIN:VTIMEZONE
TZID:UTC
BEGIN:STANDARD
TZOFFSETFROM:+0000
TZOFFSETTO:+0000
TZNAME:UTC
DTSTART:20240101T000000
END:STANDARD
END:VTIMEZONE
BEGIN:VEVENT
DTSTART;TZID=UTC:20240705T220000
DTEND;TZID=UTC:20240706T050000
DTSTAMP:20260422T220657
CREATED:20240712T073240Z
LAST-MODIFIED:20240712T073240Z
UID:8973-1720216800-1720242000@humane.asia
SUMMARY:HIP AT SAVAGE - 10 YEARS OF BREAKFAST CLUB MELBOURNE TOUR
DESCRIPTION:
URL:https://humane.asia/events/hip-at-savage-10-years-of-breakfast-club-melbourne-tour/
LOCATION:SAVAGE HANOI\, 1 Ng. 9 P. Đặng Thai Mai\, Quảng An\, Tây Hồ\, Hà Nội\, hanoi\, Ha Noi\, 100000\, Viet Nam
ATTACH;FMTTYPE=image/jpeg:https://humane.asia/wp-content/uploads/2024/07/6DAD4657-B947-43B5-B7F5-0833121F3E27.jpg
ORGANIZER;CN="SAVAGE HANOI":MAILTO:hello@savage-hanoi.com
END:VEVENT
BEGIN:VEVENT
DTSTART;TZID=UTC:20240706T100000
DTEND;TZID=UTC:20240706T233000
DTSTAMP:20260422T220657
CREATED:20240712T073511Z
LAST-MODIFIED:20240712T073600Z
UID:8976-1720260000-1720308600@humane.asia
SUMMARY:AI LIEN\, MARCO YANES AT THE WALL FESTIVAL
DESCRIPTION:
URL:https://humane.asia/events/ai-lien-marco-yanes-at-the-wall-festival/
LOCATION:ITALY\, Italy
END:VEVENT
BEGIN:VEVENT
DTSTART;TZID=UTC:20240706T220000
DTEND;TZID=UTC:20240707T050000
DTSTAMP:20260422T220657
CREATED:20240712T073017Z
LAST-MODIFIED:20240712T073017Z
UID:8969-1720303200-1720328400@humane.asia
SUMMARY:HIP AT UNMUTE
DESCRIPTION:Screenshot
URL:https://humane.asia/events/hip-at-unmute/
LOCATION:Unmute Hanoi\, 169 P. Phúc Tân\, Phúc Tân\, Hoàn Kiếm\, Hà Nội\, hanoi\, Ha Noi\, 100000\, Viet Nam
ATTACH;FMTTYPE=image/jpeg:https://humane.asia/wp-content/uploads/2024/07/IMG_2323.jpg
END:VEVENT
BEGIN:VEVENT
DTSTART;TZID=UTC:20240719T220000
DTEND;TZID=UTC:20240720T050000
DTSTAMP:20260422T220657
CREATED:20240712T074436Z
LAST-MODIFIED:20240712T074436Z
UID:8986-1721426400-1721451600@humane.asia
SUMMARY:ANJI AT UNMUTE - TRANNSCEND
DESCRIPTION:
URL:https://humane.asia/events/anji-at-unmute-trannscend/
LOCATION:Unmute Hanoi\, 169 P. Phúc Tân\, Phúc Tân\, Hoàn Kiếm\, Hà Nội\, hanoi\, Ha Noi\, 100000\, Viet Nam
ATTACH;FMTTYPE=image/png:https://humane.asia/wp-content/uploads/2024/07/IMG_2324.png
END:VEVENT
BEGIN:VEVENT
DTSTART;VALUE=DATE:20240720
DTEND;VALUE=DATE:20240721
DTSTAMP:20260422T220657
CREATED:20240712T074201Z
LAST-MODIFIED:20240712T074232Z
UID:8980-1721433600-1721519999@humane.asia
SUMMARY:AI LIEN\, MARCO YANES AT GROOVE RAIDERZ FESTIVAL - MUNICH
DESCRIPTION:
URL:https://humane.asia/events/ai-lien-marco-yanes-at-groove-raiderz-festival-munich/
LOCATION:MUNICH\, MUNICH\, Germany
ATTACH;FMTTYPE=image/jpeg:https://humane.asia/wp-content/uploads/2024/07/IMG_2152.jpg
END:VEVENT
BEGIN:VEVENT
DTSTART;VALUE=DATE:20240728
DTEND;VALUE=DATE:20240729
DTSTAMP:20260422T220657
CREATED:20240712T074821Z
LAST-MODIFIED:20240712T074821Z
UID:8989-1722124800-1722211199@humane.asia
SUMMARY:AI LIEN\, MARCO YANES AT CLUB PARTENOPEO - NAPOLI
DESCRIPTION:
URL:https://humane.asia/events/ai-lien-marco-yanes-at-club-partenopeo-napoli/
LOCATION:CLUB PARTENOPEO\, Via Coroglio\, 144 Napoli\, NAPOLI\, Italy
END:VEVENT
BEGIN:VEVENT
DTSTART;VALUE=DATE:20240729
DTEND;VALUE=DATE:20240730
DTSTAMP:20260422T220657
CREATED:20240712T075020Z
LAST-MODIFIED:20240712T075020Z
UID:8993-1722211200-1722297599@humane.asia
SUMMARY:AI LIEN\, MARCO YANES AT SORRENTO
DESCRIPTION:
URL:https://humane.asia/events/ai-lien-marco-yanes-at-sorrento/
LOCATION:SORRENTO\, NAPOLI\, Italy
END:VEVENT
END:VCALENDAR