BEGIN:VCALENDAR
VERSION:2.0
PRODID:-//humane - ECPv6.3.1//NONSGML v1.0//EN
CALSCALE:GREGORIAN
METHOD:PUBLISH
X-WR-CALNAME:humane
X-ORIGINAL-URL:https://humane.asia
X-WR-CALDESC:Events for humane
REFRESH-INTERVAL;VALUE=DURATION:PT1H
X-Robots-Tag:noindex
X-PUBLISHED-TTL:PT1H
BEGIN:VTIMEZONE
TZID:UTC
BEGIN:STANDARD
TZOFFSETFROM:+0000
TZOFFSETTO:+0000
TZNAME:UTC
DTSTART:20240101T000000
END:STANDARD
END:VTIMEZONE
BEGIN:VEVENT
DTSTART;TZID=UTC:20240601T220000
DTEND;TZID=UTC:20240602T050000
DTSTAMP:20260422T220212
CREATED:20240605T160533Z
LAST-MODIFIED:20240605T160533Z
UID:8919-1717279200-1717304400@humane.asia
SUMMARY:MARCO YANES AT MIRAGE - SAMO.MALO x HUM
DESCRIPTION:Screenshot
URL:https://humane.asia/events/marco-yanes-at-mirage-samo-malo-x-hum/
LOCATION:MIRAGE CLUB\, 25 Đ. Xuân Diệu\, Quảng An\, Tây Hồ\, Hà Nội 10000\, hanoi\, Ha Noi\, 100000\, Viet Nam
ATTACH;FMTTYPE=image/jpeg:https://humane.asia/wp-content/uploads/2024/06/IMG_1019-2.jpg
END:VEVENT
BEGIN:VEVENT
DTSTART;TZID=UTC:20240606T220000
DTEND;TZID=UTC:20240607T040000
DTSTAMP:20260422T220212
CREATED:20240605T160700Z
LAST-MODIFIED:20240605T160700Z
UID:8930-1717711200-1717732800@humane.asia
SUMMARY:HIP AT SAVAGE - KOOLKIZ NIGHT
DESCRIPTION:
URL:https://humane.asia/events/hip-at-savage-koolkiz-night/
LOCATION:SAVAGE HANOI\, 1 Ng. 9 P. Đặng Thai Mai\, Quảng An\, Tây Hồ\, Hà Nội\, hanoi\, Ha Noi\, 100000\, Viet Nam
ATTACH;FMTTYPE=image/png:https://humane.asia/wp-content/uploads/2024/06/IMG_1703.png
END:VEVENT
BEGIN:VEVENT
DTSTART;TZID=UTC:20240608T220000
DTEND;TZID=UTC:20240609T060000
DTSTAMP:20260422T220212
CREATED:20240605T161601Z
LAST-MODIFIED:20240605T161601Z
UID:8941-1717884000-1717912800@humane.asia
SUMMARY:ISABELLA MAVLEEVA AT UNMUTE
DESCRIPTION:
URL:https://humane.asia/events/isabella-mavleeva-at-unmute-2/
LOCATION:Unmute Hanoi\, 169 P. Phúc Tân\, Phúc Tân\, Hoàn Kiếm\, Hà Nội\, hanoi\, Ha Noi\, 100000\, Viet Nam
ATTACH;FMTTYPE=image/jpeg:https://humane.asia/wp-content/uploads/2024/06/IMG_1016.jpg
END:VEVENT
BEGIN:VEVENT
DTSTART;TZID=UTC:20240608T220000
DTEND;TZID=UTC:20240609T070000
DTSTAMP:20260422T220212
CREATED:20240605T161402Z
LAST-MODIFIED:20240605T162500Z
UID:8936-1717884000-1717916400@humane.asia
SUMMARY:AI LIEN\, HIP AT BIRDCAGE - CLOSING PARTY
DESCRIPTION:
URL:https://humane.asia/events/ai-lien-hip-at-birdcage-closing-party/
LOCATION:BIRDCAGE HN\, HA NOI\, Viet Nam
ATTACH;FMTTYPE=image/jpeg:https://humane.asia/wp-content/uploads/2024/06/IMG_1022.jpg
END:VEVENT
BEGIN:VEVENT
DTSTART;TZID=UTC:20240608T220000
DTEND;TZID=UTC:20240609T220000
DTSTAMP:20260422T220212
CREATED:20240605T160858Z
LAST-MODIFIED:20240605T162506Z
UID:8932-1717884000-1717970400@humane.asia
SUMMARY:MARCO YANES AT CIPHER - HONGKONG
DESCRIPTION:
URL:https://humane.asia/events/marco-yanes-at-cipher-hongkong/
LOCATION:HONG KONG\, Hong Kong
ATTACH;FMTTYPE=image/jpeg:https://humane.asia/wp-content/uploads/2024/06/IMG_1021.jpg
END:VEVENT
BEGIN:VEVENT
DTSTART;TZID=UTC:20240629T193000
DTEND;TZID=UTC:20240630T060000
DTSTAMP:20260422T220212
CREATED:20240605T162142Z
LAST-MODIFIED:20240605T162429Z
UID:8943-1719689400-1719727200@humane.asia
SUMMARY:AI LIEN\, ANJI\, HIP\, ISABELLA MAVLEEVA\, MARCO YANES AT SAVAGE - HUM 6 YEARS ANNIVERSARY
DESCRIPTION:
URL:https://humane.asia/events/ai-lien-anji-hip-isabella-mavleeva-marco-yanes-at-savage-hum-6-years-anniversary/
LOCATION:SAVAGE HANOI\, 1 Ng. 9 P. Đặng Thai Mai\, Quảng An\, Tây Hồ\, Hà Nội\, hanoi\, Ha Noi\, 100000\, Viet Nam
ATTACH;FMTTYPE=image/jpeg:https://humane.asia/wp-content/uploads/2024/06/IMG_1724.jpg
END:VEVENT
END:VCALENDAR