BEGIN:VCALENDAR
VERSION:2.0
PRODID:-//humane - ECPv6.3.1//NONSGML v1.0//EN
CALSCALE:GREGORIAN
METHOD:PUBLISH
X-ORIGINAL-URL:https://humane.asia
X-WR-CALDESC:Events for humane
REFRESH-INTERVAL;VALUE=DURATION:PT1H
X-Robots-Tag:noindex
X-PUBLISHED-TTL:PT1H
BEGIN:VTIMEZONE
TZID:UTC
BEGIN:STANDARD
TZOFFSETFROM:+0000
TZOFFSETTO:+0000
TZNAME:UTC
DTSTART:20240101T000000
END:STANDARD
END:VTIMEZONE
BEGIN:VEVENT
DTSTART;TZID=UTC:20240302T220000
DTEND;TZID=UTC:20240302T220000
DTSTAMP:20260423T081642
CREATED:20240207T170207Z
LAST-MODIFIED:20240221T171947Z
UID:8243-1709416800-1709416800@humane.asia
SUMMARY:MARCO YANES \, ANJI\, ISABELLA MAVLEEVA & HOWSKII X HERMOSA AT MIRAGE HANOI
DESCRIPTION: 
URL:https://humane.asia/events/marco-yanes-anjiisabella-mavleeva-howskii-x-hermosa-at-mirage-hanoi/
LOCATION:MIRAGE CLUB\, 25 Đ. Xuân Diệu\, Quảng An\, Tây Hồ\, Hà Nội 10000\, hanoi\, Ha Noi\, 100000\, Viet Nam
ATTACH;FMTTYPE=image/jpeg:https://humane.asia/wp-content/uploads/2024/02/o.jpeg
END:VEVENT
BEGIN:VEVENT
DTSTART;TZID=UTC:20240308T220000
DTEND;TZID=UTC:20240308T220000
DTSTAMP:20260423T081642
CREATED:20240207T164412Z
LAST-MODIFIED:20240304T181618Z
UID:8236-1709935200-1709935200@humane.asia
SUMMARY:AILIEN AT UNMUTE HANOI.
DESCRIPTION:UNMUTE WITH AILIEN\,BBQQ & VYNNI
URL:https://humane.asia/events/ailien-at-unmute-hanoi/
LOCATION:Unmute Hanoi\, 169 P. Phúc Tân\, Phúc Tân\, Hoàn Kiếm\, Hà Nội\, hanoi\, Ha Noi\, 100000\, Viet Nam
ATTACH;FMTTYPE=image/jpeg:https://humane.asia/wp-content/uploads/2024/02/POSTER-scaled.jpeg
END:VEVENT
BEGIN:VEVENT
DTSTART;TZID=UTC:20240321T220000
DTEND;TZID=UTC:20240321T220000
DTSTAMP:20260423T081643
CREATED:20240207T170358Z
LAST-MODIFIED:20240306T180031Z
UID:8247-1711058400-1711058400@humane.asia
SUMMARY:HUM INVITES SPACETRAVEL (PERLON) AT SAVAGE CLUB
DESCRIPTION:HUM INVITES SPACETRAVEL (PERLON) AT SAVAGE CLUB \nAiLien b2b ANJI
URL:https://humane.asia/events/hum-invites-spacetravel-perlon-at-savage-club/
LOCATION:SAVAGE HANOI\, 1 Ng. 9 P. Đặng Thai Mai\, Quảng An\, Tây Hồ\, Hà Nội\, hanoi\, Ha Noi\, 100000\, Viet Nam
ATTACH;FMTTYPE=image/png:https://humane.asia/wp-content/uploads/2024/02/IMG_9669.png
ORGANIZER;CN="SAVAGE HANOI":MAILTO:hello@savage-hanoi.com
END:VEVENT
BEGIN:VEVENT
DTSTART;TZID=UTC:20240322T220000
DTEND;TZID=UTC:20240323T060000
DTSTAMP:20260423T081643
CREATED:20240301T061423Z
LAST-MODIFIED:20240301T061423Z
UID:8720-1711144800-1711173600@humane.asia
SUMMARY:MARCO YANES x ORBIT ELECTRIBE by HOMEBP
DESCRIPTION:
URL:https://humane.asia/events/marco-yanes-x-orbit-electribe-by-homebp/
LOCATION:MIRAGE CLUB\, 25 Đ. Xuân Diệu\, Quảng An\, Tây Hồ\, Hà Nội 10000\, hanoi\, Ha Noi\, 100000\, Viet Nam
ATTACH;FMTTYPE=image/jpeg:https://humane.asia/wp-content/uploads/2024/03/IMG_6691.jpg
END:VEVENT
BEGIN:VEVENT
DTSTART;TZID=UTC:20240323T220000
DTEND;TZID=UTC:20240324T110000
DTSTAMP:20260423T081643
CREATED:20240312T181214Z
LAST-MODIFIED:20240312T181214Z
UID:8740-1711231200-1711278000@humane.asia
SUMMARY:SPACETRAVEL\, MARCO YANES x ELECTRONIC IMPORTS
DESCRIPTION:
URL:https://humane.asia/events/spacetravel-marco-yanes-x-electronic-imports/
LOCATION:The Villa Project\, 199c2 Nguyen Van Huong\, Thao Dien\, quan 2\, Ho Chi Minh\, Viet Nam
END:VEVENT
BEGIN:VEVENT
DTSTART;TZID=UTC:20240324T050000
DTEND;TZID=UTC:20240324T170000
DTSTAMP:20260423T081643
CREATED:20240312T181336Z
LAST-MODIFIED:20240312T181336Z
UID:8749-1711256400-1711299600@humane.asia
SUMMARY:SPACETRAVEL\, MARCO YANES AT THE VILLA PROJECT
DESCRIPTION:TBA
URL:https://humane.asia/events/spacetravel-marco-yanes-at-the-villa-project/
LOCATION:The Villa Project\, 199c2 Nguyen Van Huong\, Thao Dien\, quan 2\, Ho Chi Minh\, Viet Nam
END:VEVENT
BEGIN:VEVENT
DTSTART;TZID=UTC:20240328T220000
DTEND;TZID=UTC:20240329T040000
DTSTAMP:20260423T081643
CREATED:20240207T170635Z
LAST-MODIFIED:20240317T144217Z
UID:8249-1711663200-1711684800@humane.asia
SUMMARY:HOWSKII AT SAVAGE CLUB
DESCRIPTION:
URL:https://humane.asia/events/howskii-at-savage-club/
LOCATION:SAVAGE HANOI\, 1 Ng. 9 P. Đặng Thai Mai\, Quảng An\, Tây Hồ\, Hà Nội\, hanoi\, Ha Noi\, 100000\, Viet Nam
ATTACH;FMTTYPE=image/png:https://humane.asia/wp-content/uploads/2024/02/SAVAGE__SQUARE_2803-01.png
ORGANIZER;CN="SAVAGE HANOI":MAILTO:hello@savage-hanoi.com
END:VEVENT
BEGIN:VEVENT
DTSTART;TZID=UTC:20240330T220000
DTEND;TZID=UTC:20240331T040000
DTSTAMP:20260423T081643
CREATED:20240301T061628Z
LAST-MODIFIED:20240312T181739Z
UID:8728-1711836000-1711857600@humane.asia
SUMMARY:MARCO YANES x JAPONISM NIGHT
DESCRIPTION:
URL:https://humane.asia/events/marco-yanes-x-japonism-night/
LOCATION:SAVAGE HANOI\, 1 Ng. 9 P. Đặng Thai Mai\, Quảng An\, Tây Hồ\, Hà Nội\, hanoi\, Ha Noi\, 100000\, Viet Nam
ATTACH;FMTTYPE=image/jpeg:https://humane.asia/wp-content/uploads/2024/03/fa313b8e-06cc-4142-9bfc-af63230b0b75.jpg
ORGANIZER;CN="SAVAGE HANOI":MAILTO:hello@savage-hanoi.com
END:VEVENT
BEGIN:VEVENT
DTSTART;TZID=UTC:20240330T220000
DTEND;TZID=UTC:20240331T050000
DTSTAMP:20260423T081643
CREATED:20240317T155149Z
LAST-MODIFIED:20240317T155149Z
UID:8761-1711836000-1711861200@humane.asia
SUMMARY:HIP x KOOLKIZ AT UNMUTE
DESCRIPTION:
URL:https://humane.asia/events/hip-x-koolkiz-at-unmute/
LOCATION:Unmute Hanoi\, 169 P. Phúc Tân\, Phúc Tân\, Hoàn Kiếm\, Hà Nội\, hanoi\, Ha Noi\, 100000\, Viet Nam
ATTACH;FMTTYPE=image/jpeg:https://humane.asia/wp-content/uploads/2024/03/IMG_0014.jpg
END:VEVENT
END:VCALENDAR