BEGIN:VCALENDAR
VERSION:2.0
PRODID:-//humane - ECPv6.3.1//NONSGML v1.0//EN
CALSCALE:GREGORIAN
METHOD:PUBLISH
X-ORIGINAL-URL:https://humane.asia
X-WR-CALDESC:Events for humane
REFRESH-INTERVAL;VALUE=DURATION:PT1H
X-Robots-Tag:noindex
X-PUBLISHED-TTL:PT1H
BEGIN:VTIMEZONE
TZID:UTC
BEGIN:STANDARD
TZOFFSETFROM:+0000
TZOFFSETTO:+0000
TZNAME:UTC
DTSTART:20240101T000000
END:STANDARD
END:VTIMEZONE
BEGIN:VEVENT
DTSTART;TZID=UTC:20240912T220000
DTEND;TZID=UTC:20240913T050000
DTSTAMP:20260422T152241
CREATED:20240909T144129Z
LAST-MODIFIED:20240909T144129Z
UID:9068-1726178400-1726203600@humane.asia
SUMMARY:MARCO YANES\, HIP AT SAVAGE HANOI - KOOLKIZ
DESCRIPTION:
URL:https://humane.asia/events/marco-yanes-hip-at-savage-hanoi-koolkiz/
LOCATION:SAVAGE HANOI\, 1 Ng. 9 P. Đặng Thai Mai\, Quảng An\, Tây Hồ\, Hà Nội\, hanoi\, Ha Noi\, 100000\, Viet Nam
ATTACH;FMTTYPE=image/png:https://humane.asia/wp-content/uploads/2024/09/Screenshot-2024-09-09-at-9.38.17 PM.png
ORGANIZER;CN="SAVAGE HANOI":MAILTO:hello@savage-hanoi.com
END:VEVENT
END:VCALENDAR