BEGIN:VCALENDAR
VERSION:2.0
PRODID:-//humane - ECPv6.3.1//NONSGML v1.0//EN
CALSCALE:GREGORIAN
METHOD:PUBLISH
X-ORIGINAL-URL:https://humane.asia
X-WR-CALDESC:Events for humane
REFRESH-INTERVAL;VALUE=DURATION:PT1H
X-Robots-Tag:noindex
X-PUBLISHED-TTL:PT1H
BEGIN:VTIMEZONE
TZID:UTC
BEGIN:STANDARD
TZOFFSETFROM:+0000
TZOFFSETTO:+0000
TZNAME:UTC
DTSTART:20240101T000000
END:STANDARD
END:VTIMEZONE
BEGIN:VEVENT
DTSTART;VALUE=DATE:20240810
DTEND;VALUE=DATE:20240811
DTSTAMP:20260422T220658
CREATED:20240712T075903Z
LAST-MODIFIED:20240712T075903Z
UID:9004-1723248000-1723334399@humane.asia
SUMMARY:AI LIEN\, MARCO YANES AT AUBERGE CLUB - LUGANO
DESCRIPTION:
URL:https://humane.asia/events/ai-lien-marco-yanes-at-auberge-club-lugano/
LOCATION:AUBERGE CLUB\, Corso Pestalozzi 21\, Lugano\, Switzerland 6900\, LUGANO\, Switzerland
END:VEVENT
END:VCALENDAR