BEGIN:VCALENDAR
VERSION:2.0
PRODID:-//humane - ECPv6.3.1//NONSGML v1.0//EN
CALSCALE:GREGORIAN
METHOD:PUBLISH
X-WR-CALNAME:humane
X-ORIGINAL-URL:https://humane.asia
X-WR-CALDESC:Events for humane
REFRESH-INTERVAL;VALUE=DURATION:PT1H
X-Robots-Tag:noindex
X-PUBLISHED-TTL:PT1H
BEGIN:VTIMEZONE
TZID:UTC
BEGIN:STANDARD
TZOFFSETFROM:+0000
TZOFFSETTO:+0000
TZNAME:UTC
DTSTART:20240101T000000
END:STANDARD
END:VTIMEZONE
BEGIN:VEVENT
DTSTART;TZID=UTC:20240719T220000
DTEND;TZID=UTC:20240720T050000
DTSTAMP:20260422T220044
CREATED:20240712T074436Z
LAST-MODIFIED:20240712T074436Z
UID:8986-1721426400-1721451600@humane.asia
SUMMARY:ANJI AT UNMUTE - TRANNSCEND
DESCRIPTION:
URL:https://humane.asia/events/anji-at-unmute-trannscend/
LOCATION:Unmute Hanoi\, 169 P. Phúc Tân\, Phúc Tân\, Hoàn Kiếm\, Hà Nội\, hanoi\, Ha Noi\, 100000\, Viet Nam
ATTACH;FMTTYPE=image/png:https://humane.asia/wp-content/uploads/2024/07/IMG_2324.png
END:VEVENT
END:VCALENDAR