BEGIN:VCALENDAR
VERSION:2.0
PRODID:-//humane - ECPv6.3.1//NONSGML v1.0//EN
CALSCALE:GREGORIAN
METHOD:PUBLISH
X-WR-CALNAME:humane
X-ORIGINAL-URL:https://humane.asia
X-WR-CALDESC:Events for humane
REFRESH-INTERVAL;VALUE=DURATION:PT1H
X-Robots-Tag:noindex
X-PUBLISHED-TTL:PT1H
BEGIN:VTIMEZONE
TZID:UTC
BEGIN:STANDARD
TZOFFSETFROM:+0000
TZOFFSETTO:+0000
TZNAME:UTC
DTSTART:20240101T000000
END:STANDARD
END:VTIMEZONE
BEGIN:VEVENT
DTSTART;TZID=UTC:20240705T220000
DTEND;TZID=UTC:20240706T050000
DTSTAMP:20260422T220045
CREATED:20240712T073240Z
LAST-MODIFIED:20240712T073240Z
UID:8973-1720216800-1720242000@humane.asia
SUMMARY:HIP AT SAVAGE - 10 YEARS OF BREAKFAST CLUB MELBOURNE TOUR
DESCRIPTION:
URL:https://humane.asia/events/hip-at-savage-10-years-of-breakfast-club-melbourne-tour/
LOCATION:SAVAGE HANOI\, 1 Ng. 9 P. Đặng Thai Mai\, Quảng An\, Tây Hồ\, Hà Nội\, hanoi\, Ha Noi\, 100000\, Viet Nam
ATTACH;FMTTYPE=image/jpeg:https://humane.asia/wp-content/uploads/2024/07/6DAD4657-B947-43B5-B7F5-0833121F3E27.jpg
ORGANIZER;CN="SAVAGE HANOI":MAILTO:hello@savage-hanoi.com
END:VEVENT
END:VCALENDAR