BEGIN:VCALENDAR
VERSION:2.0
PRODID:-//humane - ECPv6.3.1//NONSGML v1.0//EN
CALSCALE:GREGORIAN
METHOD:PUBLISH
X-ORIGINAL-URL:https://humane.asia
X-WR-CALDESC:Events for humane
REFRESH-INTERVAL;VALUE=DURATION:PT1H
X-Robots-Tag:noindex
X-PUBLISHED-TTL:PT1H
BEGIN:VTIMEZONE
TZID:UTC
BEGIN:STANDARD
TZOFFSETFROM:+0000
TZOFFSETTO:+0000
TZNAME:UTC
DTSTART:20240101T000000
END:STANDARD
END:VTIMEZONE
BEGIN:VEVENT
DTSTART;TZID=UTC:20240601T220000
DTEND;TZID=UTC:20240602T050000
DTSTAMP:20260423T013625
CREATED:20240605T160533Z
LAST-MODIFIED:20240605T160533Z
UID:8919-1717279200-1717304400@humane.asia
SUMMARY:MARCO YANES AT MIRAGE - SAMO.MALO x HUM
DESCRIPTION:Screenshot
URL:https://humane.asia/events/marco-yanes-at-mirage-samo-malo-x-hum/
LOCATION:MIRAGE CLUB\, 25 Đ. Xuân Diệu\, Quảng An\, Tây Hồ\, Hà Nội 10000\, hanoi\, Ha Noi\, 100000\, Viet Nam
ATTACH;FMTTYPE=image/jpeg:https://humane.asia/wp-content/uploads/2024/06/IMG_1019-2.jpg
END:VEVENT
END:VCALENDAR