BEGIN:VCALENDAR
VERSION:2.0
PRODID:-//humane - ECPv6.3.1//NONSGML v1.0//EN
CALSCALE:GREGORIAN
METHOD:PUBLISH
X-ORIGINAL-URL:https://humane.asia
X-WR-CALDESC:Events for humane
REFRESH-INTERVAL;VALUE=DURATION:PT1H
X-Robots-Tag:noindex
X-PUBLISHED-TTL:PT1H
BEGIN:VTIMEZONE
TZID:UTC
BEGIN:STANDARD
TZOFFSETFROM:+0000
TZOFFSETTO:+0000
TZNAME:UTC
DTSTART:20240101T000000
END:STANDARD
END:VTIMEZONE
BEGIN:VEVENT
DTSTART;TZID=UTC:20240330T220000
DTEND;TZID=UTC:20240331T040000
DTSTAMP:20260423T112819
CREATED:20240301T061628Z
LAST-MODIFIED:20240312T181739Z
UID:8728-1711836000-1711857600@humane.asia
SUMMARY:MARCO YANES x JAPONISM NIGHT
DESCRIPTION:
URL:https://humane.asia/events/marco-yanes-x-japonism-night/
LOCATION:SAVAGE HANOI\, 1 Ng. 9 P. Đặng Thai Mai\, Quảng An\, Tây Hồ\, Hà Nội\, hanoi\, Ha Noi\, 100000\, Viet Nam
ATTACH;FMTTYPE=image/jpeg:https://humane.asia/wp-content/uploads/2024/03/fa313b8e-06cc-4142-9bfc-af63230b0b75.jpg
ORGANIZER;CN="SAVAGE HANOI":MAILTO:hello@savage-hanoi.com
END:VEVENT
BEGIN:VEVENT
DTSTART;TZID=UTC:20240330T220000
DTEND;TZID=UTC:20240331T050000
DTSTAMP:20260423T112819
CREATED:20240317T155149Z
LAST-MODIFIED:20240317T155149Z
UID:8761-1711836000-1711861200@humane.asia
SUMMARY:HIP x KOOLKIZ AT UNMUTE
DESCRIPTION:
URL:https://humane.asia/events/hip-x-koolkiz-at-unmute/
LOCATION:Unmute Hanoi\, 169 P. Phúc Tân\, Phúc Tân\, Hoàn Kiếm\, Hà Nội\, hanoi\, Ha Noi\, 100000\, Viet Nam
ATTACH;FMTTYPE=image/jpeg:https://humane.asia/wp-content/uploads/2024/03/IMG_0014.jpg
END:VEVENT
END:VCALENDAR