BEGIN:VCALENDAR
VERSION:2.0
PRODID:-//humane - ECPv6.3.1//NONSGML v1.0//EN
CALSCALE:GREGORIAN
METHOD:PUBLISH
X-WR-CALNAME:humane
X-ORIGINAL-URL:https://humane.asia
X-WR-CALDESC:Events for humane
REFRESH-INTERVAL;VALUE=DURATION:PT1H
X-Robots-Tag:noindex
X-PUBLISHED-TTL:PT1H
BEGIN:VTIMEZONE
TZID:UTC
BEGIN:STANDARD
TZOFFSETFROM:+0000
TZOFFSETTO:+0000
TZNAME:UTC
DTSTART:20240101T000000
END:STANDARD
END:VTIMEZONE
BEGIN:VEVENT
DTSTART;TZID=UTC:20240224T220000
DTEND;TZID=UTC:20240225T050000
DTSTAMP:20260423T200849
CREATED:20240204T213549Z
LAST-MODIFIED:20240214T054857Z
UID:8077-1708812000-1708837200@humane.asia
SUMMARY:HOWSKII AT UNMUTE HANOI.
DESCRIPTION:UNMUTE WITH ANORMALTURTLE300\, ANH VY\, HOWSKII\, SAN PELO.
URL:https://humane.asia/events/test-gig-1/
LOCATION:Unmute Hanoi\, 169 P. Phúc Tân\, Phúc Tân\, Hoàn Kiếm\, Hà Nội\, hanoi\, Ha Noi\, 100000\, Viet Nam
ATTACH;FMTTYPE=image/jpeg:https://humane.asia/wp-content/uploads/2024/02/EVENT-POSTER4-scaled-1.jpeg
END:VEVENT
END:VCALENDAR