BEGIN:VCALENDAR
VERSION:2.0
PRODID:-//humane - ECPv6.3.1//NONSGML v1.0//EN
CALSCALE:GREGORIAN
METHOD:PUBLISH
X-WR-CALNAME:humane
X-ORIGINAL-URL:https://humane.asia
X-WR-CALDESC:Events for humane
REFRESH-INTERVAL;VALUE=DURATION:PT1H
X-Robots-Tag:noindex
X-PUBLISHED-TTL:PT1H
BEGIN:VTIMEZONE
TZID:UTC
BEGIN:STANDARD
TZOFFSETFROM:+0000
TZOFFSETTO:+0000
TZNAME:UTC
DTSTART:20240101T000000
END:STANDARD
END:VTIMEZONE
BEGIN:VEVENT
DTSTART;TZID=UTC:20240216T220000
DTEND;TZID=UTC:20240216T220000
DTSTAMP:20260423T170531
CREATED:20240207T165447Z
LAST-MODIFIED:20240213T135757Z
UID:8238-1708120800-1708120800@humane.asia
SUMMARY:SAVAGE CLUB INVITES RACHEL NOON & AILIEN.
DESCRIPTION:Red Cube \n10.00 – 00.00 // AiLien \n00.00 – 03.00 // Rachel Noon \nAnteroom \n10.00 – 02.00 // DJ Boeing
URL:https://humane.asia/events/savage-club-invites-rachel-noon-ailien/
LOCATION:SAVAGE HANOI\, 1 Ng. 9 P. Đặng Thai Mai\, Quảng An\, Tây Hồ\, Hà Nội\, hanoi\, Ha Noi\, 100000\, Viet Nam
ATTACH;FMTTYPE=image/png:https://humane.asia/wp-content/uploads/2024/02/SAVAGE_PROGRAM.png
ORGANIZER;CN="SAVAGE HANOI":MAILTO:hello@savage-hanoi.com
END:VEVENT
END:VCALENDAR